BEGIN:VCALENDAR
VERSION:2.0
PRODID:-//NCNOC - ECPv6.15.20//NONSGML v1.0//EN
CALSCALE:GREGORIAN
METHOD:PUBLISH
X-ORIGINAL-URL:https://nortonclub.com
X-WR-CALDESC:Events for NCNOC
REFRESH-INTERVAL;VALUE=DURATION:PT1H
X-Robots-Tag:noindex
X-PUBLISHED-TTL:PT1H
BEGIN:VTIMEZONE
TZID:America/Los_Angeles
BEGIN:DAYLIGHT
TZOFFSETFROM:-0800
TZOFFSETTO:-0700
TZNAME:PDT
DTSTART:20230312T100000
END:DAYLIGHT
BEGIN:STANDARD
TZOFFSETFROM:-0700
TZOFFSETTO:-0800
TZNAME:PST
DTSTART:20231105T090000
END:STANDARD
BEGIN:DAYLIGHT
TZOFFSETFROM:-0800
TZOFFSETTO:-0700
TZNAME:PDT
DTSTART:20240310T100000
END:DAYLIGHT
BEGIN:STANDARD
TZOFFSETFROM:-0700
TZOFFSETTO:-0800
TZNAME:PST
DTSTART:20241103T090000
END:STANDARD
BEGIN:DAYLIGHT
TZOFFSETFROM:-0800
TZOFFSETTO:-0700
TZNAME:PDT
DTSTART:20250309T100000
END:DAYLIGHT
BEGIN:STANDARD
TZOFFSETFROM:-0700
TZOFFSETTO:-0800
TZNAME:PST
DTSTART:20251102T090000
END:STANDARD
END:VTIMEZONE
BEGIN:VEVENT
DTSTART;TZID=America/Los_Angeles:20241006T113000
DTEND;TZID=America/Los_Angeles:20241006T130000
DTSTAMP:20260419T075057
CREATED:20240105T021113Z
LAST-MODIFIED:20240926T141351Z
UID:11069-1728214200-1728219600@nortonclub.com
SUMMARY:NCNOC Annual General Meeting
DESCRIPTION:Norton Club Annual General Meeting AGM\nSunday Oct 6\, 2024 ⋅ 11:30am – 1pm\nPacific Time – Los Angeles \nLocation\nGiorgio’s Italian Food and Pizzeria\, 643 E Calaveras Blvd\, Milpitas\, CA 95035\, USA\nhttps://www.google.com/maps/search/Giorgio’s+Italian+Food+and+Pizzeria\,+643+E+Calaveras+Blvd\,+Milpitas\,+CA+95035\,+USA?hl=en
URL:https://nortonclub.com/event/agm-2/
LOCATION:Giorgio’s Italian Food and Pizzeria\, 643 E Calaveras Blvd\, Milpitas\, CA\, 95035\, United States
END:VEVENT
END:VCALENDAR