BEGIN:VCALENDAR
VERSION:2.0
PRODID:-//NCNOC - ECPv6.15.20//NONSGML v1.0//EN
CALSCALE:GREGORIAN
METHOD:PUBLISH
X-WR-CALNAME:NCNOC
X-ORIGINAL-URL:https://nortonclub.com
X-WR-CALDESC:Events for NCNOC
REFRESH-INTERVAL;VALUE=DURATION:PT1H
X-Robots-Tag:noindex
X-PUBLISHED-TTL:PT1H
BEGIN:VTIMEZONE
TZID:America/Los_Angeles
BEGIN:DAYLIGHT
TZOFFSETFROM:-0800
TZOFFSETTO:-0700
TZNAME:PDT
DTSTART:20240310T100000
END:DAYLIGHT
BEGIN:STANDARD
TZOFFSETFROM:-0700
TZOFFSETTO:-0800
TZNAME:PST
DTSTART:20241103T090000
END:STANDARD
BEGIN:DAYLIGHT
TZOFFSETFROM:-0800
TZOFFSETTO:-0700
TZNAME:PDT
DTSTART:20250309T100000
END:DAYLIGHT
BEGIN:STANDARD
TZOFFSETFROM:-0700
TZOFFSETTO:-0800
TZNAME:PST
DTSTART:20251102T090000
END:STANDARD
BEGIN:DAYLIGHT
TZOFFSETFROM:-0800
TZOFFSETTO:-0700
TZNAME:PDT
DTSTART:20260308T100000
END:DAYLIGHT
BEGIN:STANDARD
TZOFFSETFROM:-0700
TZOFFSETTO:-0800
TZNAME:PST
DTSTART:20261101T090000
END:STANDARD
END:VTIMEZONE
BEGIN:VEVENT
DTSTART;TZID=America/Los_Angeles:20250525T100000
DTEND;TZID=America/Los_Angeles:20250525T170000
DTSTAMP:20260421T054408
CREATED:20241222T223810Z
LAST-MODIFIED:20241222T223810Z
UID:11166-1748167200-1748192400@nortonclub.com
SUMMARY:Mount Hamilton Ride
DESCRIPTION:RL: Ride Leader Needed. Meet at Tom and Liz’s. Noon for Lunch at Pizza Marie\, 302 Toyon Ave\, San Jose\, CA
URL:https://nortonclub.com/event/mount-hamilton-ride-4/
LOCATION:Starting point (Tom and Liz’s)\, 730 Linda Flora Ave\, San Jose\, CA\, United States
END:VEVENT
END:VCALENDAR