BEGIN:VCALENDAR
VERSION:2.0
PRODID:-//NCNOC - ECPv6.15.20//NONSGML v1.0//EN
CALSCALE:GREGORIAN
METHOD:PUBLISH
X-WR-CALNAME:NCNOC
X-ORIGINAL-URL:https://nortonclub.com
X-WR-CALDESC:Events for NCNOC
REFRESH-INTERVAL;VALUE=DURATION:PT1H
X-Robots-Tag:noindex
X-PUBLISHED-TTL:PT1H
BEGIN:VTIMEZONE
TZID:America/Los_Angeles
BEGIN:DAYLIGHT
TZOFFSETFROM:-0800
TZOFFSETTO:-0700
TZNAME:PDT
DTSTART:20240310T100000
END:DAYLIGHT
BEGIN:STANDARD
TZOFFSETFROM:-0700
TZOFFSETTO:-0800
TZNAME:PST
DTSTART:20241103T090000
END:STANDARD
BEGIN:DAYLIGHT
TZOFFSETFROM:-0800
TZOFFSETTO:-0700
TZNAME:PDT
DTSTART:20250309T100000
END:DAYLIGHT
BEGIN:STANDARD
TZOFFSETFROM:-0700
TZOFFSETTO:-0800
TZNAME:PST
DTSTART:20251102T090000
END:STANDARD
BEGIN:DAYLIGHT
TZOFFSETFROM:-0800
TZOFFSETTO:-0700
TZNAME:PDT
DTSTART:20260308T100000
END:DAYLIGHT
BEGIN:STANDARD
TZOFFSETFROM:-0700
TZOFFSETTO:-0800
TZNAME:PST
DTSTART:20261101T090000
END:STANDARD
END:VTIMEZONE
BEGIN:VEVENT
DTSTART;TZID=America/Los_Angeles:20250713T100000
DTEND;TZID=America/Los_Angeles:20250713T170000
DTSTAMP:20260421T030246
CREATED:20241223T004224Z
LAST-MODIFIED:20250626T165202Z
UID:11178-1752400800-1752426000@nortonclub.com
SUMMARY:Redwood Ride through Big Basin State Park
DESCRIPTION:RL: Margie leading. \n\n\n\nKSU at 10:30 AM. \n\n\n\nMeet at Alices. South to Hwy 9\, loop through Big Bend. Brookdale Lodge for lunch
URL:https://nortonclub.com/event/redwood-ride-through-big-basin-state-park-3/
LOCATION:Starting point (Alice’s Restaurant)\, 17288 Skyline Blvd\, Woodside\, CA\, 94062\, United States
END:VEVENT
BEGIN:VEVENT
DTSTART;TZID=America/Los_Angeles:20250720T100000
DTEND;TZID=America/Los_Angeles:20250720T170000
DTSTAMP:20260421T030246
CREATED:20241223T010057Z
LAST-MODIFIED:20250626T165418Z
UID:11203-1753005600-1753030800@nortonclub.com
SUMMARY:Highway Cleanup
DESCRIPTION:
URL:https://nortonclub.com/event/highway-cleanup-7/
LOCATION:Alice’s Restaurant\, 17288 Skyline Blvd\, Woodside\, CA\, 94062\, United States
END:VEVENT
END:VCALENDAR